BEGIN:VCALENDAR
VERSION:2.0
PRODID:-//eventon.com NONSGML v1.0//EN
CALSCALE:GREGORIAN
METHOD:PUBLISH
BEGIN:VEVENT
UID:69e89dbb3c960
DTSTAMP:20260422T100651Z
DTSTART:20170926T140000Z
DTEND:20170926T235000Z
LOCATION:
SUMMARY:Fraktionssitzung
DESCRIPTION:Fraktionssitzung\nhttps://rivoir.eu/events/fraktionssitzung-2/
URL:https://rivoir.eu/events/fraktionssitzung-2/
END:VEVENT
END:VCALENDAR