BEGIN:VCALENDAR
VERSION:2.0
PRODID:-//eventon.com NONSGML v1.0//EN
CALSCALE:GREGORIAN
METHOD:PUBLISH
BEGIN:VEVENT
UID:69e8a8ea5c081
DTSTAMP:20260422T105434Z
DTSTART:20171017T140000Z
DTEND:20171017T235000Z
LOCATION:
SUMMARY:Fraktionssitzung
DESCRIPTION:Fraktionssitzung\nhttps://rivoir.eu/events/fraktionssitzung-6/
URL:https://rivoir.eu/events/fraktionssitzung-6/
END:VEVENT
END:VCALENDAR