BEGIN:VCALENDAR
VERSION:2.0
PRODID:-//eventon.com NONSGML v1.0//EN
CALSCALE:GREGORIAN
METHOD:PUBLISH
BEGIN:VEVENT
UID:69e89d782f37d
DTSTAMP:20260422T100544Z
DTSTART:20171018T100000Z
DTEND:20171018T235000Z
LOCATION:
SUMMARY:AK Wissenschaft\,  Forschung und Kunst
DESCRIPTION:AK Wissenschaft\,  Forschung und Kunst\nhttps://rivoir.eu/event
 s/ak-wissenschaft-forschung-und-kunst/
URL:https://rivoir.eu/events/ak-wissenschaft-forschung-und-kunst/
END:VEVENT
END:VCALENDAR