BEGIN:VCALENDAR
VERSION:2.0
PRODID:-//eventon.com NONSGML v1.0//EN
CALSCALE:GREGORIAN
METHOD:PUBLISH
BEGIN:VEVENT
UID:69e8a28f8e5af
DTSTAMP:20260422T102727Z
DTSTART:20171114T140000Z
DTEND:20171114T235000Z
LOCATION:
SUMMARY:Fraktionssitzung
DESCRIPTION:Fraktionssitzung\nhttps://rivoir.eu/events/fraktionssitzung-13/
URL:https://rivoir.eu/events/fraktionssitzung-13/
END:VEVENT
END:VCALENDAR