BEGIN:VCALENDAR
VERSION:2.0
PRODID:-//eventon.com NONSGML v1.0//EN
CALSCALE:GREGORIAN
METHOD:PUBLISH
BEGIN:VEVENT
UID:69e89e231c160
DTSTAMP:20260422T100835Z
DTSTART:20171114T100000Z
DTEND:20171114T235000Z
LOCATION:
SUMMARY:Fraktionsvorstand
DESCRIPTION:Fraktionsvorstand\nhttps://rivoir.eu/events/fraktionsvorstand-7
 /
URL:https://rivoir.eu/events/fraktionsvorstand-7/
END:VEVENT
END:VCALENDAR