BEGIN:VCALENDAR
VERSION:2.0
PRODID:-//eventon.com NONSGML v1.0//EN
CALSCALE:GREGORIAN
METHOD:PUBLISH
BEGIN:VEVENT
UID:69e8b4afa2af5
DTSTAMP:20260422T114447Z
DTSTART:20171122T090000Z
DTEND:20171122T235000Z
LOCATION:
SUMMARY:Vor-Ort-Termine Ulm
DESCRIPTION:Vor-Ort-Termine Ulm\nhttps://rivoir.eu/events/vor-ort-termine-u
 lm-3/
URL:https://rivoir.eu/events/vor-ort-termine-ulm-3/
END:VEVENT
END:VCALENDAR