BEGIN:VCALENDAR
VERSION:2.0
PRODID:-//eventon.com NONSGML v1.0//EN
CALSCALE:GREGORIAN
METHOD:PUBLISH
BEGIN:VEVENT
UID:69e89d9fc0642
DTSTAMP:20260422T100623Z
DTSTART:20171128T100000Z
DTEND:20171128T235000Z
LOCATION:
SUMMARY:Fraktionsvorstand
DESCRIPTION:Fraktionsvorstand\nhttps://rivoir.eu/events/fraktionsvorstand-9
 /
URL:https://rivoir.eu/events/fraktionsvorstand-9/
END:VEVENT
END:VCALENDAR