BEGIN:VCALENDAR
VERSION:2.0
PRODID:-//eventon.com NONSGML v1.0//EN
CALSCALE:GREGORIAN
METHOD:PUBLISH
BEGIN:VEVENT
UID:69e8a2540dfaf
DTSTAMP:20260422T102628Z
DTSTART:20171128T140000Z
DTEND:20171128T235000Z
LOCATION:
SUMMARY:Fraktionssitzung
DESCRIPTION:Fraktionssitzung\nhttps://rivoir.eu/events/fraktionssitzung-16/
URL:https://rivoir.eu/events/fraktionssitzung-16/
END:VEVENT
END:VCALENDAR