BEGIN:VCALENDAR
VERSION:2.0
PRODID:-//eventon.com NONSGML v1.0//EN
CALSCALE:GREGORIAN
METHOD:PUBLISH
BEGIN:VEVENT
UID:69e8b4b997439
DTSTAMP:20260422T114457Z
DTSTART:20171201T100000Z
DTEND:20171201T235000Z
LOCATION:
SUMMARY:Vollendung der neuen Torarolle im Landtag
DESCRIPTION:Vollendung der neuen Torarolle im Landtag\nhttps://rivoir.eu/ev
 ents/vollendung-der-neuen-torarolle-im-landtag/
URL:https://rivoir.eu/events/vollendung-der-neuen-torarolle-im-landtag/
END:VEVENT
END:VCALENDAR