BEGIN:VCALENDAR
VERSION:2.0
PRODID:-//eventon.com NONSGML v1.0//EN
CALSCALE:GREGORIAN
METHOD:PUBLISH
BEGIN:VEVENT
UID:69e8a285807d7
DTSTAMP:20260422T102717Z
DTSTART:20171221T090000Z
DTEND:20171221T235000Z
LOCATION:
SUMMARY:Vor-Ort-Termine Ulm
DESCRIPTION:Vor-Ort-Termine Ulm\nhttps://rivoir.eu/events/vor-ort-termine-u
 lm-9/
URL:https://rivoir.eu/events/vor-ort-termine-ulm-9/
END:VEVENT
END:VCALENDAR