BEGIN:VCALENDAR
VERSION:2.0
PRODID:-//eventon.com NONSGML v1.0//EN
CALSCALE:GREGORIAN
METHOD:PUBLISH
BEGIN:VEVENT
UID:69e8b0c26696f
DTSTAMP:20260422T112802Z
DTSTART:20180124T090000Z
DTEND:20180124T235000Z
LOCATION:
SUMMARY:Plenarsitzung
DESCRIPTION:Plenarsitzung\nhttps://rivoir.eu/events/plenarsitzung-10/
URL:https://rivoir.eu/events/plenarsitzung-10/
END:VEVENT
END:VCALENDAR