BEGIN:VCALENDAR
VERSION:2.0
PRODID:-//eventon.com NONSGML v1.0//EN
CALSCALE:GREGORIAN
METHOD:PUBLISH
BEGIN:VEVENT
UID:69e609746667f
DTSTAMP:20260420T110940Z
DTSTART:20180220T100000Z
DTEND:20180220T235000Z
LOCATION:
SUMMARY:Fraktionsvorstand
DESCRIPTION:Fraktionsvorstand\nhttps://rivoir.eu/events/fraktionsvorstand-1
 4/
URL:https://rivoir.eu/events/fraktionsvorstand-14/
END:VEVENT
END:VCALENDAR