BEGIN:VCALENDAR
VERSION:2.0
PRODID:-//eventon.com NONSGML v1.0//EN
CALSCALE:GREGORIAN
METHOD:PUBLISH
BEGIN:VEVENT
UID:69e8b4a2cfaa0
DTSTAMP:20260422T114434Z
DTSTART:20180314T180000Z
DTEND:20180314T235000Z
LOCATION:
SUMMARY:JHV Mieterverein Ulm/Neu-Ulm
DESCRIPTION:JHV Mieterverein Ulm/Neu-Ulm\nhttps://rivoir.eu/events/jhv-miet
 erverein-ulm-neu-ulm/
URL:https://rivoir.eu/events/jhv-mieterverein-ulm-neu-ulm/
END:VEVENT
END:VCALENDAR