BEGIN:VCALENDAR
VERSION:2.0
PRODID:-//eventon.com NONSGML v1.0//EN
CALSCALE:GREGORIAN
METHOD:PUBLISH
BEGIN:VEVENT
UID:69e8a1ed72507
DTSTAMP:20260422T102445Z
DTSTART:20180319T093000Z
DTEND:20180319T235000Z
LOCATION:
SUMMARY:Eröffnung der Frühjahrsakademie
DESCRIPTION:Eröffnung der Frühjahrsakademie\nhttps://rivoir.eu/events/ero
 effnung-der-fruehjahrsakademie/
URL:https://rivoir.eu/events/eroeffnung-der-fruehjahrsakademie/
END:VEVENT
END:VCALENDAR