BEGIN:VCALENDAR
VERSION:2.0
PRODID:-//eventon.com NONSGML v1.0//EN
CALSCALE:GREGORIAN
METHOD:PUBLISH
BEGIN:VEVENT
UID:69e89dbaf27d5
DTSTAMP:20260422T100650Z
DTSTART:20180503T160000Z
DTEND:20180503T235000Z
LOCATION:
SUMMARY:Hauptausschuss
DESCRIPTION:Hauptausschuss\nhttps://rivoir.eu/events/hauptausschuss-2/
URL:https://rivoir.eu/events/hauptausschuss-2/
END:VEVENT
END:VCALENDAR