BEGIN:VCALENDAR
VERSION:2.0
PRODID:-//eventon.com NONSGML v1.0//EN
CALSCALE:GREGORIAN
METHOD:PUBLISH
BEGIN:VEVENT
UID:69e89e234d95e
DTSTAMP:20260422T100835Z
DTSTART:20180515T100000Z
DTEND:20180515T235000Z
LOCATION:
SUMMARY:Fraktionsvorstand
DESCRIPTION:Fraktionsvorstand\nhttps://rivoir.eu/events/fraktionsvorstand-2
 3/
URL:https://rivoir.eu/events/fraktionsvorstand-23/
END:VEVENT
END:VCALENDAR