BEGIN:VCALENDAR
VERSION:2.0
PRODID:-//eventon.com NONSGML v1.0//EN
CALSCALE:GREGORIAN
METHOD:PUBLISH
BEGIN:VEVENT
UID:69e89e234d371
DTSTAMP:20260422T100835Z
DTSTART:20180517T193000Z
DTEND:20180517T235000Z
LOCATION:
SUMMARY:Bürgergespräch zum ÖPNV (SPD Erbach)
DESCRIPTION:Bürgergespräch zum ÖPNV (SPD Erbach)\nhttps://rivoir.eu/even
 ts/buergergespraech-zum-oepnv-spd-erbach/
URL:https://rivoir.eu/events/buergergespraech-zum-oepnv-spd-erbach/
END:VEVENT
END:VCALENDAR