BEGIN:VCALENDAR
VERSION:2.0
PRODID:-//eventon.com NONSGML v1.0//EN
CALSCALE:GREGORIAN
METHOD:PUBLISH
BEGIN:VEVENT
UID:69e89e0d4de1f
DTSTAMP:20260422T100813Z
DTSTART:20180525T090000Z
DTEND:20180525T235000Z
LOCATION:
SUMMARY:Vor-Ort-Termine
DESCRIPTION:Vor-Ort-Termine\nhttps://rivoir.eu/events/vor-ort-termine-40/
URL:https://rivoir.eu/events/vor-ort-termine-40/
END:VEVENT
END:VCALENDAR