BEGIN:VCALENDAR
VERSION:2.0
PRODID:-//eventon.com NONSGML v1.0//EN
CALSCALE:GREGORIAN
METHOD:PUBLISH
BEGIN:VEVENT
UID:69e89e0d2f2c3
DTSTAMP:20260422T100813Z
DTSTART:20180612T190000Z
DTEND:20180612T235000Z
LOCATION:
SUMMARY:Europaveranstaltung
DESCRIPTION:Europaveranstaltung\nhttps://rivoir.eu/events/europaveranstaltu
 ng/
URL:https://rivoir.eu/events/europaveranstaltung/
END:VEVENT
END:VCALENDAR