BEGIN:VCALENDAR
VERSION:2.0
PRODID:-//eventon.com NONSGML v1.0//EN
CALSCALE:GREGORIAN
METHOD:PUBLISH
BEGIN:VEVENT
UID:69e60973e8d4f
DTSTAMP:20260420T110939Z
DTSTART:20180623T190000Z
DTEND:20180623T235000Z
LOCATION:
SUMMARY:60 Jahre Ulmer Spatzenchor
DESCRIPTION:60 Jahre Ulmer Spatzenchor\nhttps://rivoir.eu/events/60-jahre-u
 lmer-spatzenchor/
URL:https://rivoir.eu/events/60-jahre-ulmer-spatzenchor/
END:VEVENT
END:VCALENDAR