BEGIN:VCALENDAR
VERSION:2.0
PRODID:-//eventon.com NONSGML v1.0//EN
CALSCALE:GREGORIAN
METHOD:PUBLISH
BEGIN:VEVENT
UID:69e8cb9a63d00
DTSTAMP:20260422T132234Z
DTSTART:20180904T093000Z
DTEND:20180904T235000Z
LOCATION:
SUMMARY:Vor-Ort-Termin Stadtsanierungsgebiet Dietenheim
DESCRIPTION:Vor-Ort-Termin Stadtsanierungsgebiet Dietenheim\nhttps://rivoir
 .eu/events/vor-ort-termin-stadtsanierungsgebiet-dietenheim/
URL:https://rivoir.eu/events/vor-ort-termin-stadtsanierungsgebiet-dietenheim/
END:VEVENT
END:VCALENDAR