BEGIN:VCALENDAR
VERSION:2.0
PRODID:-//eventon.com NONSGML v1.0//EN
CALSCALE:GREGORIAN
METHOD:PUBLISH
BEGIN:VEVENT
UID:69e89e23db0c2
DTSTAMP:20260422T100835Z
DTSTART:20180917T173000Z
DTEND:20180917T235000Z
LOCATION:
SUMMARY:Fraktionssitzung
DESCRIPTION:Fraktionssitzung\nhttps://rivoir.eu/events/fraktionssitzung-53/
URL:https://rivoir.eu/events/fraktionssitzung-53/
END:VEVENT
END:VCALENDAR