BEGIN:VCALENDAR
VERSION:2.0
PRODID:-//eventon.com NONSGML v1.0//EN
CALSCALE:GREGORIAN
METHOD:PUBLISH
BEGIN:VEVENT
UID:69e8c67444d01
DTSTAMP:20260422T130036Z
DTSTART:20181016T140000Z
DTEND:20181016T235000Z
LOCATION:
SUMMARY:Fraktionssitzung
DESCRIPTION:Fraktionssitzung\nhttps://rivoir.eu/events/fraktionssitzung-57/
URL:https://rivoir.eu/events/fraktionssitzung-57/
END:VEVENT
END:VCALENDAR