BEGIN:VCALENDAR
VERSION:2.0
PRODID:-//eventon.com NONSGML v1.0//EN
CALSCALE:GREGORIAN
METHOD:PUBLISH
BEGIN:VEVENT
UID:69e8ad39a10eb
DTSTAMP:20260422T111257Z
DTSTART:20181022T100000Z
DTEND:20181022T235000Z
LOCATION:
SUMMARY:Vor-Ort-Termine
DESCRIPTION:Vor-Ort-Termine\nhttps://rivoir.eu/events/vor-ort-termine-61/
URL:https://rivoir.eu/events/vor-ort-termine-61/
END:VEVENT
END:VCALENDAR