BEGIN:VCALENDAR
VERSION:2.0
PRODID:-//eventon.com NONSGML v1.0//EN
CALSCALE:GREGORIAN
METHOD:PUBLISH
BEGIN:VEVENT
UID:69e89da071b5d
DTSTAMP:20260422T100624Z
DTSTART:20181024T090000Z
DTEND:20181024T235000Z
LOCATION:
SUMMARY:Plenarsitzung
DESCRIPTION:Plenarsitzung\nhttps://rivoir.eu/events/plenarsitzung-30/
URL:https://rivoir.eu/events/plenarsitzung-30/
END:VEVENT
END:VCALENDAR