BEGIN:VCALENDAR
VERSION:2.0
PRODID:-//eventon.com NONSGML v1.0//EN
CALSCALE:GREGORIAN
METHOD:PUBLISH
BEGIN:VEVENT
UID:69e89d77da811
DTSTAMP:20260422T100543Z
DTSTART:20181116T193000Z
DTEND:20181116T235000Z
LOCATION:
SUMMARY:Halbzeit-Bilanz
DESCRIPTION:Halbzeit-Bilanz\nhttps://rivoir.eu/events/vor-ort-termine-ulm-2
 6/
URL:https://rivoir.eu/events/vor-ort-termine-ulm-26/
END:VEVENT
END:VCALENDAR