BEGIN:VCALENDAR
VERSION:2.0
PRODID:-//eventon.com NONSGML v1.0//EN
CALSCALE:GREGORIAN
METHOD:PUBLISH
BEGIN:VEVENT
UID:69e89e23e9e61
DTSTAMP:20260422T100835Z
DTSTART:20181127T110000Z
DTEND:20181127T235000Z
LOCATION:
SUMMARY:Fraktionsvorstand
DESCRIPTION:Fraktionsvorstand\nhttps://rivoir.eu/events/fraktionsvorstand-3
 7/
URL:https://rivoir.eu/events/fraktionsvorstand-37/
END:VEVENT
END:VCALENDAR