BEGIN:VCALENDAR
VERSION:2.0
PRODID:-//eventon.com NONSGML v1.0//EN
CALSCALE:GREGORIAN
METHOD:PUBLISH
BEGIN:VEVENT
UID:69e89e235c8c0
DTSTAMP:20260422T100835Z
DTSTART:20181128T100000Z
DTEND:20181128T235000Z
LOCATION:
SUMMARY:Plenarsitzung
DESCRIPTION:Plenarsitzung\nhttps://rivoir.eu/events/plenarsitzung-34/
URL:https://rivoir.eu/events/plenarsitzung-34/
END:VEVENT
END:VCALENDAR