BEGIN:VCALENDAR
VERSION:2.0
PRODID:-//eventon.com NONSGML v1.0//EN
CALSCALE:GREGORIAN
METHOD:PUBLISH
BEGIN:VEVENT
UID:69e8cb967d037
DTSTAMP:20260422T132230Z
DTSTART:20181204T080000Z
DTEND:20181204T235000Z
LOCATION:
SUMMARY:Verkehrspolitische Sprecherkonferenz
DESCRIPTION:Verkehrspolitische Sprecherkonferenz\nhttps://rivoir.eu/events/
 verkehrspolitische-sprecherkonferenz-2/
URL:https://rivoir.eu/events/verkehrspolitische-sprecherkonferenz-2/
END:VEVENT
END:VCALENDAR