BEGIN:VCALENDAR
VERSION:2.0
PRODID:-//eventon.com NONSGML v1.0//EN
CALSCALE:GREGORIAN
METHOD:PUBLISH
BEGIN:VEVENT
UID:69e89dc2e6c13
DTSTAMP:20260422T100658Z
DTSTART:20181217T183000Z
DTEND:20181217T235000Z
LOCATION:
SUMMARY:Gedenkgottesdienst
DESCRIPTION:Gedenkgottesdienst\nhttps://rivoir.eu/events/gedenkgottesdienst
 /
URL:https://rivoir.eu/events/gedenkgottesdienst/
END:VEVENT
END:VCALENDAR