BEGIN:VCALENDAR
VERSION:2.0
PRODID:-//eventon.com NONSGML v1.0//EN
CALSCALE:GREGORIAN
METHOD:PUBLISH
BEGIN:VEVENT
UID:69e4c2cfa0867
DTSTAMP:20260419T115559Z
DTSTART:20181219T100000Z
DTEND:20181219T235000Z
LOCATION:
SUMMARY:Plenarsitzung
DESCRIPTION:Plenarsitzung\nhttps://rivoir.eu/events/plenarsitzung-37/
URL:https://rivoir.eu/events/plenarsitzung-37/
END:VEVENT
END:VCALENDAR