BEGIN:VCALENDAR
VERSION:2.0
PRODID:-//eventon.com NONSGML v1.0//EN
CALSCALE:GREGORIAN
METHOD:PUBLISH
BEGIN:VEVENT
UID:69e89dc26f0cb
DTSTAMP:20260422T100658Z
DTSTART:20190115T140000Z
DTEND:20190115T235000Z
LOCATION:
SUMMARY:Fraktionsitzung
DESCRIPTION:Fraktionsitzung\nhttps://rivoir.eu/events/fraktionsitzung-7/
URL:https://rivoir.eu/events/fraktionsitzung-7/
END:VEVENT
END:VCALENDAR