BEGIN:VCALENDAR
VERSION:2.0
PRODID:-//eventon.com NONSGML v1.0//EN
CALSCALE:GREGORIAN
METHOD:PUBLISH
BEGIN:VEVENT
UID:69e89d49bb0dd
DTSTAMP:20260422T100457Z
DTSTART:20190118T190000Z
DTEND:20190118T235000Z
LOCATION:
SUMMARY:Neujahrsempfang der IHK
DESCRIPTION:Neujahrsempfang der IHK\nhttps://rivoir.eu/events/neujahrsempfa
 ng-der-ihk/
URL:https://rivoir.eu/events/neujahrsempfang-der-ihk/
END:VEVENT
END:VCALENDAR