BEGIN:VCALENDAR
VERSION:2.0
PRODID:-//eventon.com NONSGML v1.0//EN
CALSCALE:GREGORIAN
METHOD:PUBLISH
BEGIN:VEVENT
UID:69e89d775a442
DTSTAMP:20260422T100543Z
DTSTART:20190204T140000Z
DTEND:20190204T235000Z
LOCATION:
SUMMARY:Fraktionsitzung
DESCRIPTION:Fraktionsitzung\nhttps://rivoir.eu/events/fraktionsitzung-11/
URL:https://rivoir.eu/events/fraktionsitzung-11/
END:VEVENT
END:VCALENDAR