BEGIN:VCALENDAR
VERSION:2.0
PRODID:-//eventon.com NONSGML v1.0//EN
CALSCALE:GREGORIAN
METHOD:PUBLISH
BEGIN:VEVENT
UID:69e8a25e120b2
DTSTAMP:20260422T102638Z
DTSTART:20190205T180000Z
DTEND:20190205T235000Z
LOCATION:
SUMMARY:Neujahrsempfang SPD-Gemeinderatsfraktion Stuttgart
DESCRIPTION:Neujahrsempfang SPD-Gemeinderatsfraktion Stuttgart\nhttps://riv
 oir.eu/events/neujahrsempfang-spd-gemeinderatsfraktion-stuttgart/
URL:https://rivoir.eu/events/neujahrsempfang-spd-gemeinderatsfraktion-stuttgart/
END:VEVENT
END:VCALENDAR