BEGIN:VCALENDAR
VERSION:2.0
PRODID:-//eventon.com NONSGML v1.0//EN
CALSCALE:GREGORIAN
METHOD:PUBLISH
BEGIN:VEVENT
UID:69e89d4b731b2
DTSTAMP:20260422T100459Z
DTSTART:20190209T100000Z
DTEND:20190209T235000Z
LOCATION:
SUMMARY:Fachgespräch Wohnungspolitik
DESCRIPTION:Fachgespräch Wohnungspolitik\nhttps://rivoir.eu/events/fachges
 praech-wohnungspolitik/
URL:https://rivoir.eu/events/fachgespraech-wohnungspolitik/
END:VEVENT
END:VCALENDAR