BEGIN:VCALENDAR
VERSION:2.0
PRODID:-//eventon.com NONSGML v1.0//EN
CALSCALE:GREGORIAN
METHOD:PUBLISH
BEGIN:VEVENT
UID:69e89db9630d0
DTSTAMP:20260422T100649Z
DTSTART:20190213T090000Z
DTEND:20190213T235000Z
LOCATION:
SUMMARY:Plenarsitzung
DESCRIPTION:Plenarsitzung\nhttps://rivoir.eu/events/plenarsitzung-42/
URL:https://rivoir.eu/events/plenarsitzung-42/
END:VEVENT
END:VCALENDAR