BEGIN:VCALENDAR
VERSION:2.0
PRODID:-//eventon.com NONSGML v1.0//EN
CALSCALE:GREGORIAN
METHOD:PUBLISH
BEGIN:VEVENT
UID:69e89dc26ba26
DTSTAMP:20260422T100658Z
DTSTART:20190218T100000Z
DTEND:20190218T235000Z
LOCATION:
SUMMARY:AK Wissenschaft in Reutlingen
DESCRIPTION:AK Wissenschaft in Reutlingen\nhttps://rivoir.eu/events/ak-wiss
 enschaft-reutlingen/
URL:https://rivoir.eu/events/ak-wissenschaft-reutlingen/
END:VEVENT
END:VCALENDAR