BEGIN:VCALENDAR
VERSION:2.0
PRODID:-//eventon.com NONSGML v1.0//EN
CALSCALE:GREGORIAN
METHOD:PUBLISH
BEGIN:VEVENT
UID:69e8b4aa96aeb
DTSTAMP:20260422T114442Z
DTSTART:20190324T090000Z
DTEND:20190324T235000Z
LOCATION:
SUMMARY:Vor-Ort-Termine
DESCRIPTION:Vor-Ort-Termine\nhttps://rivoir.eu/events/vor-ort-termine-94/
URL:https://rivoir.eu/events/vor-ort-termine-94/
END:VEVENT
END:VCALENDAR