BEGIN:VCALENDAR
VERSION:2.0
PRODID:-//eventon.com NONSGML v1.0//EN
CALSCALE:GREGORIAN
METHOD:PUBLISH
BEGIN:VEVENT
UID:69e8b498da227
DTSTAMP:20260422T114424Z
DTSTART:20190408T153000Z
DTEND:20190408T235000Z
LOCATION:
SUMMARY:Fachforum Baden-Württemberg
DESCRIPTION:Fachforum Baden-Württemberg\nhttps://rivoir.eu/events/fachforu
 m-baden-wuerttemberg/
URL:https://rivoir.eu/events/fachforum-baden-wuerttemberg/
END:VEVENT
END:VCALENDAR