BEGIN:VCALENDAR
VERSION:2.0
PRODID:-//eventon.com NONSGML v1.0//EN
CALSCALE:GREGORIAN
METHOD:PUBLISH
BEGIN:VEVENT
UID:69e89d4b274cf
DTSTAMP:20260422T100459Z
DTSTART:20190502T193000Z
DTEND:20190502T235000Z
LOCATION:
SUMMARY:„Europa – unsere einzige Chance?!“
DESCRIPTION:Blaustein\,  Lix-Gaststätte\,  Ehrensteiner Straße 45\nhttps:
 //rivoir.eu/events/europa-veranstaltung/
URL:https://rivoir.eu/events/europa-veranstaltung/
END:VEVENT
END:VCALENDAR