BEGIN:VCALENDAR
VERSION:2.0
PRODID:-//eventon.com NONSGML v1.0//EN
CALSCALE:GREGORIAN
METHOD:PUBLISH
BEGIN:VEVENT
UID:69e89dba3aa65
DTSTAMP:20260422T100650Z
DTSTART:20190513T173000Z
DTEND:20190513T235000Z
LOCATION:
SUMMARY:Fraktionssitzung
DESCRIPTION:Fraktionssitzung\nhttps://rivoir.eu/events/fraktionssitzung-79/
URL:https://rivoir.eu/events/fraktionssitzung-79/
END:VEVENT
END:VCALENDAR