BEGIN:VCALENDAR
VERSION:2.0
PRODID:-//eventon.com NONSGML v1.0//EN
CALSCALE:GREGORIAN
METHOD:PUBLISH
BEGIN:VEVENT
UID:69e89d775c737
DTSTAMP:20260422T100543Z
DTSTART:20190627T090000Z
DTEND:20190627T235000Z
LOCATION:
SUMMARY:Plenarsitzung
DESCRIPTION:Plenarsitzung\nhttps://rivoir.eu/events/plenarsitzung-52/
URL:https://rivoir.eu/events/plenarsitzung-52/
END:VEVENT
END:VCALENDAR