BEGIN:VCALENDAR
VERSION:2.0
PRODID:-//eventon.com NONSGML v1.0//EN
CALSCALE:GREGORIAN
METHOD:PUBLISH
BEGIN:VEVENT
UID:69e63315a14a9
DTSTAMP:20260420T140717Z
DTSTART:20190704T090000Z
DTEND:20190704T235000Z
LOCATION:
SUMMARY:Vor-Ort-Termine
DESCRIPTION:Vor-Ort-Termine\nhttps://rivoir.eu/events/vor-ort-termine-123/
URL:https://rivoir.eu/events/vor-ort-termine-123/
END:VEVENT
END:VCALENDAR