BEGIN:VCALENDAR
VERSION:2.0
PRODID:-//eventon.com NONSGML v1.0//EN
CALSCALE:GREGORIAN
METHOD:PUBLISH
BEGIN:VEVENT
UID:69e89e0deed75
DTSTAMP:20260422T100813Z
DTSTART:20190724T090000Z
DTEND:20190724T202900Z
LOCATION:
SUMMARY:Vor-Ort-Termine
DESCRIPTION:Vor-Ort-Termine\nhttps://rivoir.eu/events/vor-ort-termine-130/
URL:https://rivoir.eu/events/vor-ort-termine-130/
END:VEVENT
END:VCALENDAR