BEGIN:VCALENDAR
VERSION:2.0
PRODID:-//eventon.com NONSGML v1.0//EN
CALSCALE:GREGORIAN
METHOD:PUBLISH
BEGIN:VEVENT
UID:69e89da259ec9
DTSTAMP:20260422T100626Z
DTSTART:20190920T120000Z
DTEND:20190920T235000Z
LOCATION:
SUMMARY:Klausur Gemeinderat
DESCRIPTION:Klausur Gemeinderat\nhttps://rivoir.eu/events/klausur-gemeinder
 at/
URL:https://rivoir.eu/events/klausur-gemeinderat/
END:VEVENT
END:VCALENDAR