BEGIN:VCALENDAR
VERSION:2.0
PRODID:-//eventon.com NONSGML v1.0//EN
CALSCALE:GREGORIAN
METHOD:PUBLISH
BEGIN:VEVENT
UID:69e89da1edb49
DTSTAMP:20260422T100625Z
DTSTART:20191007T160000Z
DTEND:20191007T235000Z
LOCATION:
SUMMARY:Verkehrsausschuss
DESCRIPTION:Verkehrsausschuss\nhttps://rivoir.eu/events/verkehrsausschuss-1
 7/
URL:https://rivoir.eu/events/verkehrsausschuss-17/
END:VEVENT
END:VCALENDAR