BEGIN:VCALENDAR
VERSION:2.0
PRODID:-//eventon.com NONSGML v1.0//EN
CALSCALE:GREGORIAN
METHOD:PUBLISH
BEGIN:VEVENT
UID:69e89dc366457
DTSTAMP:20260422T100659Z
DTSTART:20191104T093000Z
DTEND:20191104T235000Z
LOCATION:
SUMMARY:Vor-Ort-Termine
DESCRIPTION:Vor-Ort-Termine\nhttps://rivoir.eu/events/vor-ort-termine-151/
URL:https://rivoir.eu/events/vor-ort-termine-151/
END:VEVENT
END:VCALENDAR