BEGIN:VCALENDAR
VERSION:2.0
PRODID:-//eventon.com NONSGML v1.0//EN
CALSCALE:GREGORIAN
METHOD:PUBLISH
BEGIN:VEVENT
UID:69e89dbab3442
DTSTAMP:20260422T100650Z
DTSTART:20191114T090000Z
DTEND:20191114T235000Z
LOCATION:
SUMMARY:Plenarsitzung
DESCRIPTION:Plenarsitzung\nhttps://rivoir.eu/events/plenarsitzung-61/
URL:https://rivoir.eu/events/plenarsitzung-61/
END:VEVENT
END:VCALENDAR