BEGIN:VCALENDAR
VERSION:2.0
PRODID:-//eventon.com NONSGML v1.0//EN
CALSCALE:GREGORIAN
METHOD:PUBLISH
BEGIN:VEVENT
UID:69e89d7a1a163
DTSTAMP:20260422T100546Z
DTSTART:20191202T173000Z
DTEND:20191202T235000Z
LOCATION:
SUMMARY:Fraktionssitzung
DESCRIPTION:Fraktionssitzung\nhttps://rivoir.eu/events/fraktionssitzung-106
 /
URL:https://rivoir.eu/events/fraktionssitzung-106/
END:VEVENT
END:VCALENDAR